BEGIN:VCALENDAR
VERSION:2.0
PRODID:-//Miami Book Fair Online - ECPv6.8.1//NONSGML v1.0//EN
CALSCALE:GREGORIAN
METHOD:PUBLISH
X-WR-CALNAME:Miami Book Fair Online
X-ORIGINAL-URL:https://www.miamibookfaironline.com
X-WR-CALDESC:Events for Miami Book Fair Online
REFRESH-INTERVAL;VALUE=DURATION:PT1H
X-Robots-Tag:noindex
X-PUBLISHED-TTL:PT1H
BEGIN:VTIMEZONE
TZID:America/New_York
BEGIN:DAYLIGHT
TZOFFSETFROM:-0500
TZOFFSETTO:-0400
TZNAME:EDT
DTSTART:20210314T070000
END:DAYLIGHT
BEGIN:STANDARD
TZOFFSETFROM:-0400
TZOFFSETTO:-0500
TZNAME:EST
DTSTART:20211107T060000
END:STANDARD
END:VTIMEZONE
BEGIN:VEVENT
DTSTART;TZID=America/New_York:20211114T120000
DTEND;TZID=America/New_York:20211114T140000
DTSTAMP:20260419T222729
CREATED:20211024T044330Z
LAST-MODIFIED:20221101T013019Z
UID:40606-1636891200-1636898400@www.miamibookfaironline.com
SUMMARY:Wild Tongues Can’t Be Tamed: 15 Voices from the Latinx Diaspora
DESCRIPTION:In Wild Tongues Can’t Be Tamed: 15 Voices from the Latinx Diaspora\, bestselling and award-winning authors as well as up-and-coming voices interrogate the different myths and stereotypes about the Latinx diaspora. These 15 original pieces delve into everything from ghost stories and superheroes\, to memories in the kitchen and travels around the world\, to addiction and grief\, to identity and anti-Blackness\, to finding love and speaking your truth. Full of both sorrow and joy\, this collection is an essential celebration of this rich and diverse community. Featuring the book’s editor\, Saraciea J. Fennell\, and contributors Naima Coster\, Kahlil O. Haywood\, Zakiya Jamal\, Janel Martinez\, Meg Medina\, and Jasminne Mendez. Moderated by Angie Cruz\, author of Dominicana: A Novel. \nGrades 9 – 12
URL:https://www.miamibookfaironline.com/event/wild-tongues-cant-be-tamed-15-voices-from-the-latinx-diaspora-2/
LOCATION:On Demand
CATEGORIES:Children's + Teens,On Demand,Panel,Young Adult Books
ATTACH;FMTTYPE=image/jpeg:https://cdn.miamibookfaironline.com/wp-content/uploads/2021/10/Fennell_Saraciea-CR-viscose-illusion.jpg
END:VEVENT
BEGIN:VEVENT
DTSTART;TZID=America/New_York:20211114T120000
DTEND;TZID=America/New_York:20211114T130000
DTSTAMP:20260419T222729
CREATED:20211024T052116Z
LAST-MODIFIED:20221029T011456Z
UID:40610-1636891200-1636894800@www.miamibookfaironline.com
SUMMARY:Mystery\, Magic & Mayhem: Three Graphic Novel Adventures
DESCRIPTION:Barb the Last Berzerker must free her fellow warriors and stop Witch Head from taking over Bailiwick in this side-splitting graphic novel by Dan Abdo and Jason Patterson. In Nidhi Chanani’s Jukebox\, Shaheen and her cousin are transported through decades of music history to search for her missing father. And John Patrick Green’s sewer-loving secret agents are back to solve the mystery of giant bugs in InvestiGators: Ants in Our P.A.N.T.S. . Moderated by Armando Mendive\, teacher for Monsignor Edward Pace High School. \nGrades 3 – 7 \nSponsored by
URL:https://www.miamibookfaironline.com/event/mystery-magic-mayhem-three-graphic-novel-adventures/
LOCATION:On Demand
CATEGORIES:Children's + Teens,Middle Grade Books,Most Watched Panels 2021,On Demand,Panel,Picture Books,Young Adult Books
ATTACH;FMTTYPE=image/jpeg:https://cdn.miamibookfaironline.com/wp-content/uploads/2021/10/Abdo_Dan.jpg
END:VEVENT
BEGIN:VEVENT
DTSTART;TZID=America/New_York:20211114T120000
DTEND;TZID=America/New_York:20211114T130000
DTSTAMP:20260419T222729
CREATED:20211024T045344Z
LAST-MODIFIED:20221101T013026Z
UID:40608-1636891200-1636894800@www.miamibookfaironline.com
SUMMARY:Storytime: Dogs at Work: Good Dogs. Real Jobs.
DESCRIPTION:Have you ever wondered what dogs do all day when their people leave for school or their jobs? What if they went to work\, too? Margaret Cardillo’s Dogs at Work: Good Dogs. Real Jobs. is a clever picture book that describes all the real jobs that dogs do. From a therapy dog to a mayor dog and even a lobster-diving dog\, the possibilities will surprise you! But\, of course\, there is one job that dogs love more than any other: being a best friend. \nAdditional Materials/Activity Guides \nSponsored by
URL:https://www.miamibookfaironline.com/event/storytime-dogs-at-work-good-dogs-real-jobs-2/
LOCATION:On Demand
CATEGORIES:Children's + Teens,On Demand,Picture Books,PreK-3,Read Across America
ATTACH;FMTTYPE=image/jpeg:https://cdn.miamibookfaironline.com/wp-content/uploads/2021/10/Cardillo_Margaret.jpg
END:VEVENT
END:VCALENDAR