BEGIN:VCALENDAR
VERSION:2.0
PRODID:-//Miami Book Fair Online - ECPv6.8.1//NONSGML v1.0//EN
CALSCALE:GREGORIAN
METHOD:PUBLISH
X-WR-CALNAME:Miami Book Fair Online
X-ORIGINAL-URL:https://www.miamibookfaironline.com
X-WR-CALDESC:Events for Miami Book Fair Online
REFRESH-INTERVAL;VALUE=DURATION:PT1H
X-Robots-Tag:noindex
X-PUBLISHED-TTL:PT1H
BEGIN:VTIMEZONE
TZID:America/New_York
BEGIN:DAYLIGHT
TZOFFSETFROM:-0500
TZOFFSETTO:-0400
TZNAME:EDT
DTSTART:20200308T070000
END:DAYLIGHT
BEGIN:STANDARD
TZOFFSETFROM:-0400
TZOFFSETTO:-0500
TZNAME:EST
DTSTART:20201101T060000
END:STANDARD
BEGIN:DAYLIGHT
TZOFFSETFROM:-0500
TZOFFSETTO:-0400
TZNAME:EDT
DTSTART:20210314T070000
END:DAYLIGHT
BEGIN:STANDARD
TZOFFSETFROM:-0400
TZOFFSETTO:-0500
TZNAME:EST
DTSTART:20211107T060000
END:STANDARD
END:VTIMEZONE
BEGIN:VEVENT
DTSTART;TZID=America/New_York:20210530T110000
DTEND;TZID=America/New_York:20210530T123000
DTSTAMP:20260422T071822
CREATED:20210423T002336Z
LAST-MODIFIED:20210423T002336Z
UID:28249-1622372400-1622377800@www.miamibookfaironline.com
SUMMARY:Taptap Krik? Krak! Books and Music for Families
DESCRIPTION:Click HERE to View Event \nTaptap Krik? Krak! Books and Music for Families. Storytelling with Muriel Johnson\, Jude Joseph\, Charlot Lucien\, and Paula C. Pean. Books with Angie Bell\, Tico Armand\, Danielle Joseph\, OliGa\, and Imane Kernizan. Music with Inez Barlatier. Cooking with Nadege Fleurimond. Hosted by Mahalia Solages.  Includes a special segment with the Haitian Ladies Network. \nDownload and color your own taptap for a chance to win a book and be featured in the next episode of Taptap Krik? Krak! Deadline: May 23. Open to kids 0-12. After coloring your taptap\, send a picture of yourself holding the drawing to littlehaitibookfestival@gmail.com and tag us @miamibookfair. \nDownload Your Coloring Page Here \n \nTaptap Krik? Krak! Books and Music for Families is part of Miami Book Fair’s ReadCaribbean programs\, sponsored in part by the Green Family Foundation\, Miami-Dade County Department of Cultural Affairs and Florida Division of Cultural Affairs.
URL:https://www.miamibookfaironline.com/event/taptap-krik-krak-books-and-music-for-families/
LOCATION:On Demand
CATEGORIES:Children’s Alley Online,ReadCaribbean,TapTap Krik? Krak!,Year Round
ATTACH;FMTTYPE=image/jpeg:https://cdn.miamibookfaironline.com/wp-content/uploads/2021/04/taptap-video-600-1.jpg
END:VEVENT
BEGIN:VEVENT
DTSTART;VALUE=DATE:20201122
DTEND;VALUE=DATE:20201123
DTSTAMP:20260422T071822
CREATED:20201108T004215Z
LAST-MODIFIED:20201108T004215Z
UID:11850-1606003200-1606089599@www.miamibookfaironline.com
SUMMARY:Haitian Caribbean Celebration for Kids: Taptap Krik? Krak!
DESCRIPTION:Presented in English and Haitian Creole. \nTranscription available in English and Creole \nThe wheels on Taptap KRIK? KRAK! go round and round. Colorful and packed with stories\, this bus is stopping at your house! Enjoy Haitian and Caribbean stories\, music\, dance\, and many other surprises. Special guests include chef Nadège Fleurimond\, storyteller Katia D. Ulysse\, and artists Inez Barlatier and Toto Laraque. Hosted by Mahalia Solages. \nAll aboard? Next stop\, your living room! \nSponsored by \n \n \nand in partnership with
URL:https://www.miamibookfaironline.com/event/haitian-caribbean-celebration-for-kids-taptap-krik-krak/
LOCATION:On Demand
CATEGORIES:Children’s Alley Online,ReadCaribbean,TapTap Krik? Krak!
ATTACH;FMTTYPE=image/jpeg:https://cdn.miamibookfaironline.com/wp-content/uploads/2020/10/Fleurimond_Nadege-1.jpg
END:VEVENT
END:VCALENDAR